BEGIN:VCALENDAR
VERSION:2.0
PRODID:-//wp-events-plugin.com//7.2.3.1//EN
TZID:Asia/Tokyo
X-WR-TIMEZONE:Asia/Tokyo
BEGIN:VEVENT
UID:549@music-live.jp
DTSTART;TZID=Asia/Tokyo:20230806T180000
DTEND;TZID=Asia/Tokyo:20230806T210000
DTSTAMP:20241227T170915Z
URL:https://www.music-live.jp/events/eventid-11909/
SUMMARY:IKE presents LIFE SONG vol.31 Acoustic Live
DESCRIPTION:■出演者\n・メガネフロウ。\n・KEN\n・たじきす
 たん\n・福田しんご\n・moe\n
ATTACH;FMTTYPE=image/jpeg:https://www.music-live.jp/wp-content/uploads/202
 4/12/359522441_3556759511259755_1472780911791231590_n.jpg
CATEGORIES:Rock・Pops,その他
LOCATION:music&cafe 明日の地図\, 千日町9-17 江口ビル2階\, 鹿
 児島市\, 鹿児島県\, 892-0843\, 日本
GEO:31.588609;130.556373
X-APPLE-STRUCTURED-LOCATION;VALUE=URI;X-ADDRESS=千日町9-17 江口ビル2
 階\, 鹿児島市\, 鹿児島県\, 892-0843\, 日本;X-APPLE-RADIUS=100;X
 -TITLE=music&cafe 明日の地図:geo:31.588609,130.556373
END:VEVENT
BEGIN:VTIMEZONE
TZID:Asia/Tokyo
X-LIC-LOCATION:Asia/Tokyo
BEGIN:STANDARD
DTSTART:20220806T180000
TZOFFSETFROM:+0900
TZOFFSETTO:+0900
TZNAME:JST
END:STANDARD
END:VTIMEZONE
END:VCALENDAR