BEGIN:VCALENDAR
VERSION:2.0
PRODID:-//wp-events-plugin.com//7.2.3.1//EN
TZID:Asia/Tokyo
X-WR-TIMEZONE:Asia/Tokyo
BEGIN:VEVENT
UID:808@music-live.jp
DTSTART;TZID=Asia/Tokyo:20231125T190000
DTEND;TZID=Asia/Tokyo:20231125T213000
DTSTAMP:20241227T170921Z
URL:https://www.music-live.jp/events/eventid-12066/
SUMMARY:杉本篤彦(Gt) ソロギターライブ
DESCRIPTION:❶19:00~ ❷20:30~\n\n■杉本篤彦(Gt)\nジャズ、ソウ
 ル、R&Bをベースにしたネオソウルギタリスト。日本コ
 ロムビアよりR134としてメジャーデビュー、アドリブ誌2
 008年国内ニュースター賞を受賞。現在は杉本篤彦とし
 て全国各地でライブ活動中。「美の巨人たち」「甲子
 園ボウル」「坂本龍馬」のテーマ他、オートバックス
 、アイリスオーヤマなど数々のCMソングも手掛ける。ラ
 ジオのパーソナリティー、TV、映画出演の他、ジャズギ
 ターの教則本を(株)ヤマハミュージックメディアより出
 版、元アメリカンフットボール選手、趣味は歴史。27枚
 目となるリーダーアルバム 「Laule'a」 発売中。
ATTACH;FMTTYPE=image/jpeg:https://www.music-live.jp/wp-content/uploads/202
 3/08/231125_atsuhiko-sugimoto_ad_ogp-1.webp
CATEGORIES:Instrumental,Jazz,Rock・Pops,その他
LOCATION:Jazz Spot Lileth（ジャズスポット・リレット）\, 千
 日町9-4 天文館Kビル 4F\, 鹿児島市\, 鹿児島県\, 892-0843\, 
 日本
GEO:31.588582;130.555485
X-APPLE-STRUCTURED-LOCATION;VALUE=URI;X-ADDRESS=千日町9-4 天文館Kビ
 ル 4F\, 鹿児島市\, 鹿児島県\, 892-0843\, 日本;X-APPLE-RADIUS=10
 0;X-TITLE=Jazz Spot Lileth（ジャズスポット・リレット）:geo:3
 1.588582,130.555485
END:VEVENT
BEGIN:VTIMEZONE
TZID:Asia/Tokyo
X-LIC-LOCATION:Asia/Tokyo
BEGIN:STANDARD
DTSTART:20221125T190000
TZOFFSETFROM:+0900
TZOFFSETTO:+0900
TZNAME:JST
END:STANDARD
END:VTIMEZONE
END:VCALENDAR