BEGIN:VCALENDAR
VERSION:2.0
PRODID:-//wp-events-plugin.com//7.2.3.1//EN
TZID:Asia/Tokyo
X-WR-TIMEZONE:Asia/Tokyo
BEGIN:VEVENT
UID:625@music-live.jp
DTSTART;TZID=Asia/Tokyo:20230923T180000
DTEND;TZID=Asia/Tokyo:20230923T200000
DTSTAMP:20241227T170917Z
URL:https://www.music-live.jp/events/eventid-12238/
SUMMARY:JOYMUSICA YouTube DUO LIVE
DESCRIPTION:錦江湾・桜島を眺望できる素敵な会場よりお届
 けするYouTube LIVE\nプチゲストにK２が参加。少しですが
 、音楽とK2 さんのダンスとのコラボも。\n\n※今回は会
 場でのドリンクの提供はございませんので、各自ご自
 由にお飲み物ご持参ください。（ゴミのお持ち帰りに
 ご協力いただけましたら嬉しいです）\n\n\n■場所\n\ne-te
 rrace10F Hall（鹿児島県鹿児島市荒田１丁目１６−７）\n\n
 ■日時\n9月23日\nopen 17時30分　/　start　18時00分\n\n■出
 演者\nK2-guest\nJoyMusica\nsakura-vo\n塩屋祐典-pf\n\n■料金\n\n\n
 ¥3\,000-（税込）※要予約\n\n\n■ご予約・問い合わせ\nご
 予約・問い合わせフォーム\n※今回のライブは人数を限
 定して開催いたします。ご来場希望の方は、上記のフ
 ォームよりご予約お願いいたします。\n\n※ライブ後は
 オフ会も検討中です。参加者人数で開催するかを決定
 いたします。ご予約と共にオフ会希望欄にもチェック
 をいただけるとありがたいです。\n\n
ATTACH;FMTTYPE=image/jpeg:https://www.music-live.jp/wp-content/uploads/202
 4/12/370825254_6741952019230411_2406239623137962087_n.jpg
CATEGORIES:Classic,Jazz,Rock・Pops,その他
LOCATION:イイテラス10F Hall\, 荒田1丁目16-7\, 鹿児島市\, 鹿
 児島県\, 890-0054\, 日本
GEO:31.576962;130.553439
X-APPLE-STRUCTURED-LOCATION;VALUE=URI;X-ADDRESS=荒田1丁目16-7\, 鹿児
 島市\, 鹿児島県\, 890-0054\, 日本;X-APPLE-RADIUS=100;X-TITLE=イ
 イテラス10F Hall:geo:31.576962,130.553439
END:VEVENT
BEGIN:VTIMEZONE
TZID:Asia/Tokyo
X-LIC-LOCATION:Asia/Tokyo
BEGIN:STANDARD
DTSTART:20220923T180000
TZOFFSETFROM:+0900
TZOFFSETTO:+0900
TZNAME:JST
END:STANDARD
END:VTIMEZONE
END:VCALENDAR