BEGIN:VCALENDAR
VERSION:2.0
PRODID:-//wp-events-plugin.com//7.2.3.1//EN
TZID:Asia/Tokyo
X-WR-TIMEZONE:Asia/Tokyo
BEGIN:VEVENT
UID:776@music-live.jp
DTSTART;TZID=Asia/Tokyo:20231112T150000
DTEND;TZID=Asia/Tokyo:20231112T180000
DTSTAMP:20241227T170920Z
URL:https://www.music-live.jp/events/eventid-12354/
SUMMARY:八木隆幸(Piano)＆丹羽肇(Bass) JAZZ DUO
DESCRIPTION:八木隆幸(Piano)＆丹羽肇(Bass) JAZZ DUO\n八木隆幸(Pi
 ano)初のSoloPianoアルバム「Solo Flight」発売記念Live。\n\n■
 日時\n2023年11月12日(日)\n1st 15:00~\n2nd 16:30～\n\n■会場\nmus
 ic&cafe 明日の地図\n\n■料金\n前売 3\,500円\n当日 4\,000円\n
ATTACH;FMTTYPE=image/jpeg:https://www.music-live.jp/wp-content/uploads/202
 4/12/371508976_1414317649125572_5978270911235655412_n.jpg
CATEGORIES:Jazz
LOCATION:music&cafe 明日の地図\, 千日町9-17 江口ビル2階\, 鹿
 児島市\, 鹿児島県\, 892-0843\, 日本
GEO:31.588609;130.556373
X-APPLE-STRUCTURED-LOCATION;VALUE=URI;X-ADDRESS=千日町9-17 江口ビル2
 階\, 鹿児島市\, 鹿児島県\, 892-0843\, 日本;X-APPLE-RADIUS=100;X
 -TITLE=music&cafe 明日の地図:geo:31.588609,130.556373
END:VEVENT
BEGIN:VTIMEZONE
TZID:Asia/Tokyo
X-LIC-LOCATION:Asia/Tokyo
BEGIN:STANDARD
DTSTART:20221112T150000
TZOFFSETFROM:+0900
TZOFFSETTO:+0900
TZNAME:JST
END:STANDARD
END:VTIMEZONE
END:VCALENDAR