BEGIN:VCALENDAR
VERSION:2.0
PRODID:-//wp-events-plugin.com//7.2.3.1//EN
TZID:Asia/Tokyo
X-WR-TIMEZONE:Asia/Tokyo
BEGIN:VEVENT
UID:696@music-live.jp
DTSTART;TZID=Asia/Tokyo:20231021T173000
DTEND;TZID=Asia/Tokyo:20231021T183000
DTSTAMP:20241227T170918Z
URL:https://www.music-live.jp/events/eventid-12406/
SUMMARY:リトルチェリーズ(BigBand)@PARK STAGE(天文館公園)【Kag
 oshima Jazz Festival 2023】
DESCRIPTION:Kagoshima Jazz Festival 2023\n\nPARK STAGE (天文館公園)\n
 ・STAGE8｜リトルチェリーズ(BigBand)\n\n■会場\n天文館公
 園\n\n■日時\n2023年10月21日(土) 17時30分～\n\n■Kagoshima Jaz
 z Festivalとは\n今年で7回目を迎えるKagoshima Jazz Festival（
 鹿児島ジャズフェスティバル）は、2017年に始まったジ
 ャズフェスティバルで鹿児島市内の複数の会場で開催
 されるジャズ音楽の祭典です。\n\n※スケジュールは予
 告なく変更される場合がございます。正確なスケジュ
 ールは公式サイト（Kagoshima Jazz Festival 2023）でご確認く
 ださい。
ATTACH;FMTTYPE=image/jpeg:https://www.music-live.jp/wp-content/uploads/202
 4/12/381142645_743179277612871_535755342298372193_n.jpg
CATEGORIES:Jazz
LOCATION:天文館公園\, 千日町9-30\, 鹿児島市\, 鹿児島県\, 89
 2-0843\, 日本
GEO:31.588154;130.555778
X-APPLE-STRUCTURED-LOCATION;VALUE=URI;X-ADDRESS=千日町9-30\, 鹿児島
 市\, 鹿児島県\, 892-0843\, 日本;X-APPLE-RADIUS=100;X-TITLE=天文
 館公園:geo:31.588154,130.555778
END:VEVENT
BEGIN:VTIMEZONE
TZID:Asia/Tokyo
X-LIC-LOCATION:Asia/Tokyo
BEGIN:STANDARD
DTSTART:20221021T173000
TZOFFSETFROM:+0900
TZOFFSETTO:+0900
TZNAME:JST
END:STANDARD
END:VTIMEZONE
END:VCALENDAR