BEGIN:VCALENDAR
VERSION:2.0
PRODID:-//wp-events-plugin.com//7.2.3.1//EN
TZID:Asia/Tokyo
X-WR-TIMEZONE:Asia/Tokyo
BEGIN:VEVENT
UID:842@music-live.jp
DTSTART;TZID=Asia/Tokyo:20231210T130000
DTEND;TZID=Asia/Tokyo:20231210T143000
DTSTAMP:20241227T170922Z
URL:https://www.music-live.jp/events/eventid-12741/
SUMMARY:DOO-WOP Xmax ジミー入枝とキングタウンズ
DESCRIPTION:DOO-WOP Xmax ジミー入枝とキングタウンズ\nJIMMY\,DA
 VE\,RICKY and ROCKY since 1988\n\n■日時\n2023年12月10日(日)　開
 場 12時30分 / 開演 13時 / 終演 14時30分\n\n■料金\n大人 2\,
 500円 / 小中高生 1\,000円\n※共に1ドリンク付、全席自由\
 n※未就学児 1オーダー / 乳児無料 / 中学生以下は保護
 者同伴
ATTACH;FMTTYPE=image/jpeg:https://www.music-live.jp/wp-content/uploads/202
 4/12/387765007_3050237995109208_3229196161379602008_n.jpg
CATEGORIES:Rock・Pops,その他
LOCATION:music&cafe 明日の地図\, 千日町9-17 江口ビル2階\, 鹿
 児島市\, 鹿児島県\, 892-0843\, 日本
GEO:31.588609;130.556373
X-APPLE-STRUCTURED-LOCATION;VALUE=URI;X-ADDRESS=千日町9-17 江口ビル2
 階\, 鹿児島市\, 鹿児島県\, 892-0843\, 日本;X-APPLE-RADIUS=100;X
 -TITLE=music&cafe 明日の地図:geo:31.588609,130.556373
END:VEVENT
BEGIN:VTIMEZONE
TZID:Asia/Tokyo
X-LIC-LOCATION:Asia/Tokyo
BEGIN:STANDARD
DTSTART:20221210T130000
TZOFFSETFROM:+0900
TZOFFSETTO:+0900
TZNAME:JST
END:STANDARD
END:VTIMEZONE
END:VCALENDAR