BEGIN:VCALENDAR
VERSION:2.0
PRODID:-//wp-events-plugin.com//7.2.3.1//EN
TZID:Asia/Tokyo
X-WR-TIMEZONE:Asia/Tokyo
BEGIN:VEVENT
UID:816@music-live.jp
DTSTART;TZID=Asia/Tokyo:20231128T193000
DTEND;TZID=Asia/Tokyo:20231128T213000
DTSTAMP:20241227T170921Z
URL:https://www.music-live.jp/events/eventid-12979/
SUMMARY:ZEK! 2023 KYUSHU TOUR LIVE!
DESCRIPTION:ZEK! 2023 KYUSHU TOUR LIVE!\nA Piano Trio Only Plays The Music 
 Of Led Zeppelin!\n\n■出演者\nZEK!\n・清水くるみ(Pf)\n・米木
 康志(Ba)\n・本田珠也(Ds)\n\n■日時\n2023年11月28日(火) 開
 場19:00 開演19:30\n\n■会場\nJazz&Coffee パラゴン\n\n■料金\n
 予約・前売 4\,000円 / 当日 4\,500円 (1ドリンク別、但し芋
 焼酎飲み放題)\n
ATTACH;FMTTYPE=image/jpeg:https://www.music-live.jp/wp-content/uploads/202
 4/12/397343892_1097802961445362_5368323403509153080_n.jpg
CATEGORIES:Jazz,Rock・Pops,その他
LOCATION:Jazz&Coffee パラゴン\, 昭和通102\, いちき串木野市\, 
 鹿児島県\, 896-0026\, 日本
GEO:31.715181;130.270875
X-APPLE-STRUCTURED-LOCATION;VALUE=URI;X-ADDRESS=昭和通102\, いちき串
 木野市\, 鹿児島県\, 896-0026\, 日本;X-APPLE-RADIUS=100;X-TITLE=Ja
 zz&Coffee パラゴン:geo:31.715181,130.270875
END:VEVENT
BEGIN:VTIMEZONE
TZID:Asia/Tokyo
X-LIC-LOCATION:Asia/Tokyo
BEGIN:STANDARD
DTSTART:20221128T193000
TZOFFSETFROM:+0900
TZOFFSETTO:+0900
TZNAME:JST
END:STANDARD
END:VTIMEZONE
END:VCALENDAR