BEGIN:VCALENDAR
VERSION:2.0
PRODID:-//wp-events-plugin.com//7.2.3.1//EN
TZID:Asia/Tokyo
X-WR-TIMEZONE:Asia/Tokyo
BEGIN:VEVENT
UID:778@music-live.jp
DTSTART;TZID=Asia/Tokyo:20231112T190000
DTEND;TZID=Asia/Tokyo:20231112T210000
DTSTAMP:20241227T170920Z
URL:https://www.music-live.jp/events/eventid-12993/
SUMMARY:Adventure garage presents DUO LIVE 2023 AW
DESCRIPTION:Adventure garage presents DUO LIVE 2023 AW\n秋冬のはじま
 りにお酒と音楽をたのしむタベ\n※先着20名様限定\n\n■
 出演者\n・吉澤レイモンド武尊(Sax)\n・博多俊輔(Pf)\n\n■
 日時\n2023年11月12日(日)　OPEN 18:00 / START 19:00\n\n■会場\n
 米いち\n\n■料金\nmusic charge 3\,000円(1ドリンク付)\n米い
 ち special dinner box 2\,000円(別途要予約)＊5日前までにご予
 約下さい。\n
ATTACH;FMTTYPE=image/jpeg:https://www.music-live.jp/wp-content/uploads/202
 4/12/d7acdb36-a8d6-4161-941a-06edcd2dd740-x2.jpg
CATEGORIES:Jazz
LOCATION:米いち\, 下竜尾町5-31 4F\, 鹿児島市\, 鹿児島県\, 89
 2-0852\, 日本
GEO:31.603524;130.558853
X-APPLE-STRUCTURED-LOCATION;VALUE=URI;X-ADDRESS=下竜尾町5-31 4F\, 鹿
 児島市\, 鹿児島県\, 892-0852\, 日本;X-APPLE-RADIUS=100;X-TITLE=
 米いち:geo:31.603524,130.558853
END:VEVENT
BEGIN:VTIMEZONE
TZID:Asia/Tokyo
X-LIC-LOCATION:Asia/Tokyo
BEGIN:STANDARD
DTSTART:20221112T190000
TZOFFSETFROM:+0900
TZOFFSETTO:+0900
TZNAME:JST
END:STANDARD
END:VTIMEZONE
END:VCALENDAR