BEGIN:VCALENDAR
VERSION:2.0
PRODID:-//wp-events-plugin.com//7.2.3.1//EN
TZID:Asia/Tokyo
X-WR-TIMEZONE:Asia/Tokyo
BEGIN:VEVENT
UID:822@music-live.jp
DTSTART;TZID=Asia/Tokyo:20231202T183000
DTEND;TZID=Asia/Tokyo:20231202T210000
DTSTAMP:20241227T170921Z
URL:https://www.music-live.jp/events/eventid-13222/
SUMMARY:Vol.49 ジャムセッション@順刻堂
DESCRIPTION:Vol.49 ジャムセッション@順刻堂\nピアノ、ドラ
 ム、ベースギターアンプは、当店で準備します。\n4ビ
 ートを中心に楽器ごとに交代します。\n楽譜は各自お持
 ちください。\nボーカルの方は、3枚ご準備ください。\n
 \n■日時\n2023年12月2日(土)　START 18:30\n\n■会場\nジャズ
 喫茶 順刻堂\n\n■料金\n参加料 500円\n※観覧のみの方無
 料、要1ドリンクorder
ATTACH;FMTTYPE=image/jpeg:https://www.music-live.jp/wp-content/uploads/202
 4/12/404589106_886210559582149_6548560079394414173_n.jpg
CATEGORIES:Jazz,その他
LOCATION:ジャズ喫茶 順刻堂\, 春山町1913-6\, 鹿児島市\, 鹿
 児島県\, 899-2704\, 日本
GEO:31.581629;130.455234
X-APPLE-STRUCTURED-LOCATION;VALUE=URI;X-ADDRESS=春山町1913-6\, 鹿児島
 市\, 鹿児島県\, 899-2704\, 日本;X-APPLE-RADIUS=100;X-TITLE=ジャ
 ズ喫茶 順刻堂:geo:31.581629,130.455234
END:VEVENT
BEGIN:VTIMEZONE
TZID:Asia/Tokyo
X-LIC-LOCATION:Asia/Tokyo
BEGIN:STANDARD
DTSTART:20221202T183000
TZOFFSETFROM:+0900
TZOFFSETTO:+0900
TZNAME:JST
END:STANDARD
END:VTIMEZONE
END:VCALENDAR