BEGIN:VCALENDAR
VERSION:2.0
PRODID:-//wp-events-plugin.com//7.2.3.1//EN
TZID:Asia/Tokyo
X-WR-TIMEZONE:Asia/Tokyo
BEGIN:VEVENT
UID:821@music-live.jp
DTSTART;TZID=Asia/Tokyo:20231201T190000
DTEND;TZID=Asia/Tokyo:20231201T213000
DTSTAMP:20241227T170921Z
URL:https://www.music-live.jp/events/eventid-13228/
SUMMARY:打田十紀夫 Acoustic Guitar Live
DESCRIPTION:打田十紀夫 Acoustic Guitar Live\nアコースティック
 ・ギターの魅力満載！\nいろんなスタイルでお届けする
 大人ギターの世界はいかが？\n\n■出演者\n・打田十紀
 夫(Gt)\nカントリー・ブルース・ギターの巨匠ステファ
 ン・グロスマンに師事。アコースティック・ブルース&
 ラグタイムを得意とするフィンガースタイル・ソロ・
 ギタリストとして活躍し海外ライヴ・ツアーも開催。
 また、欧米の世界的ギタリストらを日本に招きジョイ
 ント・ジャパン・ツアーを継続的に行う。現在までに
 自身のCDアルバム11枚、楽譜集、教則本、DVDなど著作多
 数発表し、全国ライヴ・ツアーも勢力的に行い常にギ
 ター音楽の可能性に挑んでいる。\n公式ホームページ\n\
 nOPENNING ACT\n・津山博文(Gt)\n鹿児島市の楽器店でギター
 講師を努める、ROCKからJAZZビッグバンドまで幅広いジャ
 ンルのギタリスト。多数のグループに所属しながら、
 ライヴイベントで活躍中。\n\n■日時\n2023年12月1日(金)
 　OPEN 18:30 / START 19:00\n\n■会場\nLive Heaven\n\n■料金\n前売
  3\,000円 / 当日 3\,500円\n※要1ドリンクオーダー\n※中学
 生以下保護者同伴無料\n
ATTACH;FMTTYPE=image/jpeg:https://www.music-live.jp/wp-content/uploads/202
 4/12/image-1-1.jpg
CATEGORIES:Jazz,Rock・Pops,その他
LOCATION:Live Heaven\, 東千石町3-4-1 キャパルボビル 3F\, 鹿児
 島市\, 鹿児島県\, 892-0842\, 日本
GEO:31.590826;130.55185
X-APPLE-STRUCTURED-LOCATION;VALUE=URI;X-ADDRESS=東千石町3-4-1 キャパ
 ルボビル 3F\, 鹿児島市\, 鹿児島県\, 892-0842\, 日本;X-APPLE-
 RADIUS=100;X-TITLE=Live Heaven:geo:31.590826,130.55185
END:VEVENT
BEGIN:VTIMEZONE
TZID:Asia/Tokyo
X-LIC-LOCATION:Asia/Tokyo
BEGIN:STANDARD
DTSTART:20221201T190000
TZOFFSETFROM:+0900
TZOFFSETTO:+0900
TZNAME:JST
END:STANDARD
END:VTIMEZONE
END:VCALENDAR