BEGIN:VCALENDAR
VERSION:2.0
PRODID:-//wp-events-plugin.com//7.2.3.1//EN
TZID:Asia/Tokyo
X-WR-TIMEZONE:Asia/Tokyo
BEGIN:VEVENT
UID:867@music-live.jp
DTSTART;TZID=Asia/Tokyo:20231222T190000
DTEND;TZID=Asia/Tokyo:20231222T220000
DTSTAMP:20241227T170922Z
URL:https://www.music-live.jp/events/eventid-13305/
SUMMARY:KOSHABAND Xmas Party!
DESCRIPTION:人情屋台とんとり Presents KOSHABAND Xmas Party!\n\n■
 出演者\n・KOSHABAND\n・Guest Band：こころの詩人\n\n■日時\n
 2023年12月22日　OPEN 18:30 / START 19:00\n\n■会場\nCAPARVO HALL.\n
 \n■料金\n5\,000円(食事・飲み放題付)\n\n
ATTACH;FMTTYPE=image/jpeg:https://www.music-live.jp/wp-content/uploads/202
 4/12/406921525_6937658022981731_4161390668347016406_n.jpg
CATEGORIES:Rock・Pops,その他
LOCATION:CAPARVO HALL.\, 東千石町3-4-1 キャパルボビル 8F\, 鹿
 児島市\, 鹿児島県\, 892-0842\, 日本
GEO:31.590826;130.55185
X-APPLE-STRUCTURED-LOCATION;VALUE=URI;X-ADDRESS=東千石町3-4-1 キャパ
 ルボビル 8F\, 鹿児島市\, 鹿児島県\, 892-0842\, 日本;X-APPLE-
 RADIUS=100;X-TITLE=CAPARVO HALL.:geo:31.590826,130.55185
END:VEVENT
BEGIN:VTIMEZONE
TZID:Asia/Tokyo
X-LIC-LOCATION:Asia/Tokyo
BEGIN:STANDARD
DTSTART:20221222T190000
TZOFFSETFROM:+0900
TZOFFSETTO:+0900
TZNAME:JST
END:STANDARD
END:VTIMEZONE
END:VCALENDAR