BEGIN:VCALENDAR
VERSION:2.0
PRODID:-//wp-events-plugin.com//7.2.3.1//EN
TZID:Asia/Tokyo
X-WR-TIMEZONE:Asia/Tokyo
BEGIN:VEVENT
UID:1433@music-live.jp
DTSTART;TZID=Asia/Tokyo:20241223T190000
DTEND;TZID=Asia/Tokyo:20241223T213000
DTSTAMP:20241228T170535Z
URL:https://www.music-live.jp/events/eventid-13716/
SUMMARY:EMILY(Vo) & The Delightful Gang - Jingle Bell Rock 2024
DESCRIPTION:鹿児島の新風物詩“天文館ミリオネーション”
 を窓辺に眺めながら、ロックバンドがクリスマスソン
 グを奏でる賑やかなひととき!!\nエミリーと愉快な仲間
 達が、ファンキーにソウルフルにお届けします\nクリス
 マス前々夜から歌って踊って騒いでみては如何？\nIt’s
  Only Rock ’n’ Roll ! But I Like It !!
ATTACH;FMTTYPE=image/jpeg:https://www.music-live.jp/wp-content/uploads/202
 4/11/241223_emily-delightful-gang_ogp.webp
CATEGORIES:Jazz
LOCATION:Jazz Spot Lileth（ジャズスポット・リレット）\, 千
 日町9-4 天文館Kビル 4F\, 鹿児島市\, 鹿児島県\, 892-0843\, 
 日本
GEO:31.588582;130.555485
X-APPLE-STRUCTURED-LOCATION;VALUE=URI;X-ADDRESS=千日町9-4 天文館Kビ
 ル 4F\, 鹿児島市\, 鹿児島県\, 892-0843\, 日本;X-APPLE-RADIUS=10
 0;X-TITLE=Jazz Spot Lileth（ジャズスポット・リレット）:geo:3
 1.588582,130.555485
END:VEVENT
BEGIN:VTIMEZONE
TZID:Asia/Tokyo
X-LIC-LOCATION:Asia/Tokyo
BEGIN:STANDARD
DTSTART:20231224T190000
TZOFFSETFROM:+0900
TZOFFSETTO:+0900
TZNAME:JST
END:STANDARD
END:VTIMEZONE
END:VCALENDAR