BEGIN:VCALENDAR
VERSION:2.0
PRODID:-//wp-events-plugin.com//7.2.3.1//EN
TZID:Asia/Tokyo
X-WR-TIMEZONE:Asia/Tokyo
BEGIN:VEVENT
UID:1441@music-live.jp
DTSTART;TZID=Asia/Tokyo:20250107T193000
DTEND;TZID=Asia/Tokyo:20250107T213000
DTSTAMP:20241228T170535Z
URL:https://www.music-live.jp/events/eventid-13724/
SUMMARY:TAKUYA KURODA BAND
DESCRIPTION:伝統を重んじながらも新しい表現に挑戦し続け
 る現代ジャズシーンの革新者黒田卓也氏がニューヨー
 クから来鹿!!\n\n\n出演者\n黒田卓也（トランペット）プ
 ロフィール\n兵庫県芦屋市出身のジャズトランペット奏
 者。ニューヨーク・ブルックリン在住。2014年に日本人
 として初めてブルーノート・レコードと契約した。2016
 年4月から『報道ステーション』の新テーマ曲「Starting F
 ive」の演奏をJ-Squadのメンバーとして担当。\n\n馬場智章
 （テナーサックス）プロフィール\n1992年生まれ。札幌
 ジュニアジャズスクールにてサックスを始め、2005年、
 タイガー大越氏により開催されたBerklee College of Musicタ
 イアップの「北海道グルーブキャンプ」で優秀賞受賞
 、2010年、テリ・リン・キャリントン(Ds)が指揮するBerkle
 e Summer Jazz Workshopのメンバーに選抜、奨学生として参加
 。2011年、バークリー音楽大学に全額奨学生として入学
 以来、テリ・リン・キャリントン、テレンス・ブラン
 チャード(Tp)、ジェイミー・カラム(Vo\,Pf)等のグラミー
 ・アーティストと共演。2016年から4年間 「報道ステー
 ション」のテーマ曲を所属するバンド「J-Squad」で手掛
 け、UNIVERSAL MUSIC JAPANよりアルバム「J-Squad」、「J-Squad 
 Ⅱ」を リリースし「Blue Note Tokyo」、「Fiji Rock Festival 17
 」にも出演。2020 年 に自身初のリーダーアルバム「Story
  Teller」、 2022年4月に2ndアルバム「Gathering」を発表。ア
 ニメーション映画『BLUE GIANT』で主人公・宮本大の演奏
 を担当し注目を浴びたサックス奏者。\n\n加藤真亜沙（
 ピアノ）プロフィール\n愛知県出身。第63回、65回グラ
 ミー賞で各2部門にノミネートされたレミー・ルブフの
 アルバム『Assembly of Shadows』『Architecture of Storms』にピア
 ニストとして参加。2009年に渡米して以来ニューヨーク
 を拠点に演奏活動を展開し、昨年はTel Aviv Jaffa Jazz Festiv
 alにヘッドライナーとして自身のトリオで出演するなど
 、世界を舞台に活動の場を広げている。また、2012年「A
 SCAP Foundation Young Jazz Composer Awards」、2014年「ASCAP Foundation
  Herb Alpert Young Jazz Composer Award」を受賞するなど、作曲家
 としてのその才能も開花させている。2016年にデビュー
 アルバム『Tales from The Trees / アンモーンの樹』を発表し
 、色彩感覚溢れた完成度の高いアルバムはシーンで話
 題となった。2021年、2022年にはソロピアノシングル2曲
 をリリース。昨年リリースした待望の2ndアルバム『Solú
 na』では前作を受け継ぐアンサンブルがより一層進化し
 て、壮大な世界を繰り広げる。\n\n中林薫平（ベース）
 プロフィール\n現在のジャズ・シーンで鮮烈な存在感を
 放つベース奏者の中林薫平が最新アルバム『Circles』の
 世界を披露する。高校入学と同時にウッド・ベースを
 始め、2003年の守口・門真ジャズコンテストでグランプ
 リ、ベストプレイヤー賞を受賞。2005年に活動の拠点を
 東京に移し、山口真文、佐山雅弘、鈴木勲、市原ひか
 り等多数のアーティストのユニットに参加。近年は黒
 田卓也のアフロビート・プロジェクトaTakでの活躍も話
 題に。\n\n小田桐和寛（ドラム）プロフィール\n1987年8月
 22日 神奈川県横浜市に生まれる。幼少からピアノ、ト
 ロンボーン、打楽器に触れ、17歳よりドラムセットを始
 める。2008年国立音楽大学打楽器科へ進学後、Newtide Jazz 
 Orchestraでドラムを担当し、「山野ビッグバンド・ジャ
 ズコンテスト」では最優秀賞を3年連続で受賞した。在
 学中は渡辺貞夫、小曽根真、山下洋輔各氏に師事。2011
 年卒業時には最優秀者に送られる「山下洋輔賞」を受
 賞し卒業。同年に小曽根真氏の推薦でバークリー音楽
 大学に特待生として留学、首席で卒業した。バークリ
 ー在学中はRalph Peterson(Dr)\, Terri Lyne Carrington(Dr)\, Darren Bar
 rett(Tp)などに師事。在学中からBlue Note NY、WBGO Jazz 88.3FM
 ラジオ、Beantown Jazz Festival等で演奏を重ねる。2014年卒業
 後はNYへ拠点を移した。その後約6年に渡る活動では、
 黒田卓也(Tp)\, 海野雅威(pf)\, Lonnie Plaxico(B)等と共演を重
 ねる一方、日本でも小田桐寛之(Tb)小田桐恵子(pf)小田桐
 智子(Vib)とのカルテット活動や、小曽根真(pf)\, 宮本貴
 奈(pf)\, 寺久保エレナ(Sax)等と共演を重ねている。また
 、すぎやまこういち作曲ドラゴンクエストのサウンド
 トラックレコーディングやコンサート(東京都交響楽団)
 にドラマーとして参加するなど、その活動の幅は広い
 。2022年には小曽根真のNew Project “From OZONE till Dawn” に
 参加。新たに設立されたJazz Arts Ensemble of Tokyo “BIG BAND
 ”のメンバーでもある。自身がリーダーを務めるバン
 ドは計4つ。クラシック音楽やミュージカル調、電子的
 なコンテンポラリーな物からジャズのピアノトリオま
 で、その内容は実に多種多様である。肝心の当人のス
 タイルはと言うと、Jazzを基盤にFunk、Rock、R&B、ブラジ
 リアン、アフロキューバン、マダガスカル、インド音
 楽に携わり、ジャンルの制限を受けないその演奏スタ
 イルは各方面から注目を集めている。”CANOPUS海外アー
 ティスト契約、Istanbul ”Agop”エンドーサー
ATTACH;FMTTYPE=image/jpeg:https://www.music-live.jp/wp-content/uploads/202
 4/12/240107_takuya-kuroda-band_ad_ogp.webp
CATEGORIES:Jazz
LOCATION:Jazz Spot Lileth（ジャズスポット・リレット）\, 千
 日町9-4 天文館Kビル 4F\, 鹿児島市\, 鹿児島県\, 892-0843\, 
 日本
GEO:31.588582;130.555485
X-APPLE-STRUCTURED-LOCATION;VALUE=URI;X-ADDRESS=千日町9-4 天文館Kビ
 ル 4F\, 鹿児島市\, 鹿児島県\, 892-0843\, 日本;X-APPLE-RADIUS=10
 0;X-TITLE=Jazz Spot Lileth（ジャズスポット・リレット）:geo:3
 1.588582,130.555485
END:VEVENT
BEGIN:VTIMEZONE
TZID:Asia/Tokyo
X-LIC-LOCATION:Asia/Tokyo
BEGIN:STANDARD
DTSTART:20240108T193000
TZOFFSETFROM:+0900
TZOFFSETTO:+0900
TZNAME:JST
END:STANDARD
END:VTIMEZONE
END:VCALENDAR