BEGIN:VCALENDAR
VERSION:2.0
PRODID:-//wp-events-plugin.com//7.2.3.1//EN
TZID:Asia/Tokyo
X-WR-TIMEZONE:Asia/Tokyo
BEGIN:VEVENT
UID:1041@music-live.jp
DTSTART;TZID=Asia/Tokyo:20240327T193000
DTEND;TZID=Asia/Tokyo:20240327T213000
DTSTAMP:20241227T170927Z
URL:https://www.music-live.jp/events/eventid-13967/
SUMMARY:レオナ(Tap) 板橋文夫(Pf) 瀬尾高志(Ba)「濤踏」アル
 バムリリース記念ライブ@イパネマ
DESCRIPTION:レオナ(Tap) 板橋文夫(Pf) 瀬尾高志(Ba)「濤踏」ア
 ルバムリリース記念ライブ@IPANEMA\n濤踏(TohTou) 1stAlbum「
 と」2ndAlbum「う」2枚同時発売\nタップダンスをルーツに
 、鉄板や鎖、食器、拡声器、ゴミ袋等、あらゆるもの
 を踏み、擦り、叩き、全身で演奏する、唯一無二の表
 現者、レオナ。\n渡良瀬やグッドバイなど数々の名曲を
 生み出し、また、Elvin Jonesとワールドツアーする等、世
 界的な演奏家である、ピアニスト、板橋文夫。\nふたり
 が最も信頼する、熱く朗々と歌うような倍音豊かなコ
 ントラバス奏者、瀬尾高志。\n根源的な衝動と喜びに突
 き動かされる三つ巴 !\n\n■出演者\n・レオナ(Tap)\n・板
 橋文夫(Pf)\n・瀬尾高志(Ba)\n\n■日時\n2024年3月27日　OPEN 1
 9:00 / START 19:30\n\n■会場\nBAR IPANEMA\n\n■料金\n当日 4\,000
 円 / 前売 3\,500円\n\n
ATTACH;FMTTYPE=image/jpeg:https://www.music-live.jp/wp-content/uploads/202
 4/12/428696125_891860616276787_4974917043571341525_n.jpg
CATEGORIES:Instrumental,Jazz,その他
LOCATION:BAR IPANEMA\, 東千石町5-17 イパネマ(BAR IPANEMA)\, 鹿児
 島市\, 鹿児島県\, 892-0842\, 日本
GEO:31.592466;130.553792
X-APPLE-STRUCTURED-LOCATION;VALUE=URI;X-ADDRESS=東千石町5-17 イパネ
 マ(BAR IPANEMA)\, 鹿児島市\, 鹿児島県\, 892-0842\, 日本;X-APPLE
 -RADIUS=100;X-TITLE=BAR IPANEMA:geo:31.592466,130.553792
END:VEVENT
BEGIN:VTIMEZONE
TZID:Asia/Tokyo
X-LIC-LOCATION:Asia/Tokyo
BEGIN:STANDARD
DTSTART:20230328T193000
TZOFFSETFROM:+0900
TZOFFSETTO:+0900
TZNAME:JST
END:STANDARD
END:VTIMEZONE
END:VCALENDAR