BEGIN:VCALENDAR
VERSION:2.0
PRODID:-//wp-events-plugin.com//7.2.3.1//EN
TZID:Asia/Tokyo
X-WR-TIMEZONE:Asia/Tokyo
BEGIN:VEVENT
UID:1139@music-live.jp
DTSTART;TZID=Asia/Tokyo:20240512T183000
DTEND;TZID=Asia/Tokyo:20240512T210000
DTSTAMP:20241227T170929Z
URL:https://www.music-live.jp/events/eventid-14043/
SUMMARY:DOO-WOP ON MY MIND ジミー入枝とザ・キングタウンズ
DESCRIPTION:DOO-WOP ON MY MIND ジミー入枝とザ・キングタウン
 ズ\nJimmy Irieda and The KINGTOWNS since 1988\n\n■出演者\n・ジミ
 ー入枝(Vo)\nザ・キングタウンズ(ビリー坂上 / デイヴ音
 藤 / リッキー藤田 / ロッキー益田)\n・小原やむちゃ(Pf)\
 n・ノンキー山田(Gt)\n・松屋裕介(Ba)\n・有川一誠(Ds)\n\n
 ■日時\n2024年5月12日　OPEN 18:00 / START 18:30\n\n■会場\nウ
 ィッキーズ・ハウス(WICKY'S HOUSE）\n\n■料金\n一般 3\,500
 円(1ドリンク付) / 高校生以下 2\,000円(1ドリンク付)\n\n
ATTACH;FMTTYPE=image/jpeg:https://www.music-live.jp/wp-content/uploads/202
 4/12/429826965_3151255461674127_8258423025697278944_n.jpg
CATEGORIES:Rock・Pops,その他
LOCATION:ウィッキーズ・ハウス(WICKY'S HOUSE）\, 東千石町9-7 
 若松ビル B1F\, 鹿児島市\, 鹿児島県\, 892-0842\, 日本
GEO:31.591137;130.553519
X-APPLE-STRUCTURED-LOCATION;VALUE=URI;X-ADDRESS=東千石町9-7 若松ビ
 ル B1F\, 鹿児島市\, 鹿児島県\, 892-0842\, 日本;X-APPLE-RADIUS=1
 00;X-TITLE=ウィッキーズ・ハウス(WICKY'S HOUSE）:geo:31.591137,1
 30.553519
END:VEVENT
BEGIN:VTIMEZONE
TZID:Asia/Tokyo
X-LIC-LOCATION:Asia/Tokyo
BEGIN:STANDARD
DTSTART:20230513T183000
TZOFFSETFROM:+0900
TZOFFSETTO:+0900
TZNAME:JST
END:STANDARD
END:VTIMEZONE
END:VCALENDAR