BEGIN:VCALENDAR
VERSION:2.0
PRODID:-//wp-events-plugin.com//7.2.3.1//EN
TZID:Asia/Tokyo
X-WR-TIMEZONE:Asia/Tokyo
BEGIN:VEVENT
UID:1195@music-live.jp
DTSTART;TZID=Asia/Tokyo:20240609T140000
DTEND;TZID=Asia/Tokyo:20240609T160000
DTSTAMP:20241227T170930Z
URL:https://www.music-live.jp/events/eventid-14074/
SUMMARY:小松亮太(バンドネオン) デビュー25周年 アルゼン
 チンタンゴコンサート(1st Stage)
DESCRIPTION:小松亮太(バンドネオン)デビュー25周年 アルゼ
 ンチンタンゴコンサート(1st Stage)\nLi-Ka1920 3周年記念\n\n
 ■予定曲目\n・ピアソラ:リベルタンゴ\n・マトス・ロド
 リゲス:ラ・クンパルシータ\n・小松亮太:風の詩～THE 世
 界遺産\n・プラサ:ダンサリン\n※曲目は変更の可能性が
 ございます\n\n■出演者\n・小松亮太(バンドネオン)\n1973
 年東京足立区出身。1998年のCDデビューを果たして以来
 、カーネギーホールやアルゼンチン・ブエノスアイレ
 スなどで、タンゴ界における記念碑的な公演を実現し
 ている。アルバムはソニーミュージックより20枚以上を
 制作。「ライブ・イン・TOKYO2002」がアルゼンチンで高
 く評価され、03年にはアルゼンチン音楽家組合(AADI)、ブ
 エノスアイレス市音楽文化管理局から表彰された。2015
 年にリリースした大貫妙子との共同名義アルバム 『Tint
 』は、第57回輝く!日本レコード大賞「優秀アルバム賞
 」を受賞。作曲活動も旺盛で、TBS系列『THE 世界遺産』O
 P曲「風の詩」 映画「グスコーブドリの伝記」(手塚プ
 ロダクション制作)、など多数を手掛けている。400ペー
 ジ以上にわたる書籍「タンゴの真実」(旬報社)を2021年
 に上梓した。\nオフィシャルサイト\n\n・福井浩気(ギタ
 ー)\n2009年に渡仏し、ジュディカエル・ペロワに師事の
 もと、オルネー=スー=ボワ県立音楽院(パリ近郊)にて音
 楽研究資格、オー=ド=フランス高等音楽学校(リール)に
 て国家音楽家専門資格及び国家音楽教育資格を取得。
 在仏時には、リール近郊の音楽学校で約4年間ギター講
 師も務める。また、アルゼンチンギタリストのディエ
 ゴ・トロスマンやシロ・ペレス各氏の指導を得て、ア
 ルゼンチンタンゴの追求も行う上、バンドネオン奏者
 のルイー ズ・ジャリュと「Duo FUKUI-JALLU」を結成し、ミ
 ュールーズのタンゴフェスティバル「Le Printemps du Tango
 」やパリの「Tango Paris Banlieues」等に出演する他、フラ
 ンス国内で多数演奏活動を行う。\n\n・近藤久美子(ヴァ
 イオリン)\n東京音楽大学卒業。タンゴヴァイオリンを
 神野肇、フェルナンド・スアレス・パス両氏に師事。
 西塔祐三とオルケスタ・ティピカパンパを経て、バン
 ドネオン奏者、小松亮太のユニットの主要メンバーと
 して活躍。アルゼンチンタンゴ界のビッグアーティス
 トと多数共演している。またブラジルの民俗楽器バン
 ドリンの奏者としてもショーロユニット「アレグリア
 ・ ドショーロ」を結成し、マウリシオ・カヒーリョや
 ジョルジーニョ・ド・パンデイロなど著名アーティス
 トとコンサートを行っている。\nオフィシャルブログ\n\
 n■日時\n2024年6月9日　OPEN 13:30 / START 14:00\n\n■会場\nラ
 イカ南国ホール\n\n■料金\n当日 5\,000円 / 前売 4\,500円\n\
 n
ATTACH;FMTTYPE=image/jpeg:https://www.music-live.jp/wp-content/uploads/202
 4/12/75429_0609SNS-768x960-1.jpg
CATEGORIES:その他
LOCATION:ライカ南国ホール\, 中央町19-40 Li-Ka1920 5F\, 鹿児島
 市\, 鹿児島県\, 890-0053\, 日本
GEO:31.583061;130.542973
X-APPLE-STRUCTURED-LOCATION;VALUE=URI;X-ADDRESS=中央町19-40 Li-Ka1920 5F
 \, 鹿児島市\, 鹿児島県\, 890-0053\, 日本;X-APPLE-RADIUS=100;X-TI
 TLE=ライカ南国ホール:geo:31.583061,130.542973
END:VEVENT
BEGIN:VTIMEZONE
TZID:Asia/Tokyo
X-LIC-LOCATION:Asia/Tokyo
BEGIN:STANDARD
DTSTART:20230610T140000
TZOFFSETFROM:+0900
TZOFFSETTO:+0900
TZNAME:JST
END:STANDARD
END:VTIMEZONE
END:VCALENDAR