BEGIN:VCALENDAR
VERSION:2.0
PRODID:-//wp-events-plugin.com//7.2.3.1//EN
TZID:Asia/Tokyo
X-WR-TIMEZONE:Asia/Tokyo
BEGIN:VEVENT
UID:1021@music-live.jp
DTSTART;TZID=Asia/Tokyo:20240319T183000
DTEND;TZID=Asia/Tokyo:20240319T210000
DTSTAMP:20241227T170926Z
URL:https://www.music-live.jp/events/eventid-14167/
SUMMARY:HARUNA(Vo)・竪山凜(Vo) with 博多俊輔(Pf) JAZZ LIVE
DESCRIPTION:HARUNA(Vo)・竪山凜(Vo) with 博多俊輔(Pf) JAZZ LIVE\nま
 ちを元気に!\n\n■出演者\n・HARUNA(Vo)\n鹿児島県出身。17
 歳より歌手活動を始める。ビクター エンターテインメ
 ントに所属後、翌年、渋谷O-NESTにてビクターエンタテ
 インメント主催の音楽イベント「U-NAGI」に出演。その
 後、福岡の『音楽塾ヴォイス』にて声業及び作曲理論
 についての勉強期間を過ごしたのち、シンガーソング
 ライターとしての活動を始める。19歳の時、有明コロシ
 アムに1万人を動員した「原宿スタイルコレクション」
 に出演し、ボーカル部門でグランプリを受賞。現在、
 故郷産児島を拠点に「聴き手をも包み込むようなグル
 ープ」を大切にしながら、洋邦楽問わずPopsをメインと
 したLive活動を展開中。\n・竪山凜(Vo)\n小学校一年生か
 ら母と友人の発足するゴスペル団体UMIプロジェクトに
 所属。活動三年目にリードボーカルに就任し、音楽に
 溢れた環境で幅広い 年齢層のメンバーとプロのゴスペ
 ル歌手の指導の元 活動を9年間行った。現在、学業と両
 立させながらライブ活動や楽曲制作などを行っている
 。\n・博多俊輔(Pf)\nシャンソン歌手の母を持ち、幼少期
 から音楽に溢れた環境のもとで育つ。18歳の頃に初めて
 聴いたキース・ジャレットの演奏に衝撃を受け、ピア
 ニストとしての道を志す。現在、鹿児島を拠点に演奏
 活動し、Jazz、Gospel、R&B、etc.様々なグループのサポート
 メンバーとして県内外で演奏活動を展開している。2019
 年、ビクターエンタテインメント洋楽部メジャーアー
 ティスト「隼人加織」氏とのDuoCDをリリース。オリジナ
 ル曲の制作にも近年は力を入れている。\n\n■日時\n2024
 年3月19日　OPEN 18:00 / START 18:30\n\n■会場\n野のいぶき\n\n
 ■料金\n3\,000円 ※バイキング&飲み放題付き!　※飲み放
 題は「ビール1杯+焼酎、ウーロン茶」\n\n
ATTACH;FMTTYPE=image/jpeg:https://www.music-live.jp/wp-content/uploads/202
 4/12/433292061_7261071447344286_4624265470161512090_n.jpg
CATEGORIES:Jazz,Rock・Pops,その他
LOCATION:野のいぶき\, 国分中央3丁目45-1 霧島市役所ビル 8F
 \, 霧島市\, 鹿児島県\, 899-4332\, 日本
GEO:31.74099;130.763057
X-APPLE-STRUCTURED-LOCATION;VALUE=URI;X-ADDRESS=国分中央3丁目45-1 霧
 島市役所ビル 8F\, 霧島市\, 鹿児島県\, 899-4332\, 日本;X-APP
 LE-RADIUS=100;X-TITLE=野のいぶき:geo:31.74099,130.763057
END:VEVENT
BEGIN:VTIMEZONE
TZID:Asia/Tokyo
X-LIC-LOCATION:Asia/Tokyo
BEGIN:STANDARD
DTSTART:20230320T183000
TZOFFSETFROM:+0900
TZOFFSETTO:+0900
TZNAME:JST
END:STANDARD
END:VTIMEZONE
END:VCALENDAR