BEGIN:VCALENDAR
VERSION:2.0
PRODID:-//wp-events-plugin.com//7.2.3.1//EN
TZID:Asia/Tokyo
X-WR-TIMEZONE:Asia/Tokyo
BEGIN:VEVENT
UID:1078@music-live.jp
DTSTART;TZID=Asia/Tokyo:20240416T190000
DTEND;TZID=Asia/Tokyo:20240416T213000
DTSTAMP:20241227T170927Z
URL:https://www.music-live.jp/events/eventid-14290/
SUMMARY:Open Stage on Tuesday 黒松錬太郎(Pf)×松屋裕介(Ba)
DESCRIPTION:Open Stage on Tuesday 黒松錬太郎(Pf)×松屋裕介(Ba)\n
 毎週火曜日に開催されるミュージシャン参加自由のオ
 ープンステージ。\nプロアマ、ジャンル問わず楽器を持
 ち込んで参加可能。\n\n■ホスト\n・黒松錬太郎(Pf)\n・
 松屋裕介(Ba)\n\n■日時\n2024年4月16日　❶19:00~ ❷20:00~ ❸2
 1:00~\n\n■会場\nJazz Spot Lileth（ジャズスポット・リレッ
 ト）\n\n■料金\n【一般】ミュージックチャージ 3\,300円 
 + ご飲食代\n【U25（25歳以下）】ミュージックチャージ 2
 \,500円 +ご飲食代（25%OFF）\n\n
ATTACH;FMTTYPE=image/jpeg:https://www.music-live.jp/wp-content/uploads/202
 4/04/240416_open-stage-on-tuesday_ad_ogp-1.webp
CATEGORIES:Jazz
LOCATION:Jazz Spot Lileth（ジャズスポット・リレット）\, 千
 日町9-4 天文館Kビル 4F\, 鹿児島市\, 鹿児島県\, 892-0843\, 
 日本
GEO:31.588582;130.555485
X-APPLE-STRUCTURED-LOCATION;VALUE=URI;X-ADDRESS=千日町9-4 天文館Kビ
 ル 4F\, 鹿児島市\, 鹿児島県\, 892-0843\, 日本;X-APPLE-RADIUS=10
 0;X-TITLE=Jazz Spot Lileth（ジャズスポット・リレット）:geo:3
 1.588582,130.555485
END:VEVENT
BEGIN:VTIMEZONE
TZID:Asia/Tokyo
X-LIC-LOCATION:Asia/Tokyo
BEGIN:STANDARD
DTSTART:20230417T190000
TZOFFSETFROM:+0900
TZOFFSETTO:+0900
TZNAME:JST
END:STANDARD
END:VTIMEZONE
END:VCALENDAR