BEGIN:VCALENDAR
VERSION:2.0
PRODID:-//wp-events-plugin.com//7.2.3.1//EN
TZID:Asia/Tokyo
X-WR-TIMEZONE:Asia/Tokyo
BEGIN:VEVENT
UID:1127@music-live.jp
DTSTART;TZID=Asia/Tokyo:20240506T130000
DTEND;TZID=Asia/Tokyo:20240506T164000
DTSTAMP:20241227T170929Z
URL:https://www.music-live.jp/events/eventid-14597/
SUMMARY:YOCADO MUSIC COLLECTION 2024
DESCRIPTION:YOCADO MUSIC COLLECTION 2024\n\n■タイムテーブル\n・13
 :00〜13:40 モゼーズwith新屋満規(Pf)\n・14:00〜14:40 モゼー
 ズwith新屋満規(Pf)\n・15:00〜15:40 松本圭使トリオ / 松本
 圭使(Pf) 伊地知大輔(Ba) 福森康(Ds)\n・16:00〜16:40 松本圭
 使トリオ / 松本圭使(Pf) 伊地知大輔(Ba) 福森康(Ds)\n\n\n■
 日時\n2024年5月6日　START 13:00 / END 16:40\n\n■会場\nよかど
 鹿児島\n\n■料金\n観覧無料\n\n
ATTACH;FMTTYPE=image/jpeg:https://www.music-live.jp/wp-content/uploads/202
 4/12/event4-100.jpg
CATEGORIES:Jazz,その他
LOCATION:よかど鹿児島\, 金生町6-6\, 鹿児島市\, 鹿児島県\, 
 892-0828\, 日本
GEO:31.593312;130.557806
X-APPLE-STRUCTURED-LOCATION;VALUE=URI;X-ADDRESS=金生町6-6\, 鹿児島市
 \, 鹿児島県\, 892-0828\, 日本;X-APPLE-RADIUS=100;X-TITLE=よかど
 鹿児島:geo:31.593312,130.557806
END:VEVENT
BEGIN:VTIMEZONE
TZID:Asia/Tokyo
X-LIC-LOCATION:Asia/Tokyo
BEGIN:STANDARD
DTSTART:20230507T130000
TZOFFSETFROM:+0900
TZOFFSETTO:+0900
TZNAME:JST
END:STANDARD
END:VTIMEZONE
END:VCALENDAR