BEGIN:VCALENDAR
VERSION:2.0
PRODID:-//wp-events-plugin.com//7.2.3.1//EN
TZID:Asia/Tokyo
X-WR-TIMEZONE:Asia/Tokyo
BEGIN:VEVENT
UID:1296@music-live.jp
DTSTART;TZID=Asia/Tokyo:20240803T153000
DTEND;TZID=Asia/Tokyo:20240803T170000
DTSTAMP:20241227T170933Z
URL:https://www.music-live.jp/events/eventid-14701/
SUMMARY:yumica oneman live 2024「Dear ○○」
DESCRIPTION:yumica oneman live 2024「Dear ○○」\n\n■出演者\n・yu
 mica(Vo/Gt)\nSupport Member\n・山崎トム(Gt)\n・もったん(Ba)\n・
 有川一誠(Ds)\n・満田昭人(Pf)\n・きたぞのまゆみ(Pf)\n\n■
 日時\n2024年8月3日　OPEN 15:00 / START 15:30\n\n■会場\nCAPARVO H
 ALL.\n\n■料金\n当日 3\,500円 / 前売 3\,000円\n※要1ドリン
 クオーダー\n※学割あり：当日学生証提示で、1500円キ
 ャッシュバック\n※中学生以下は保護者同伴で無料\n\n
ATTACH;FMTTYPE=image/jpeg:https://www.music-live.jp/wp-content/uploads/202
 4/12/image20240803.jpg
CATEGORIES:Rock・Pops,その他
LOCATION:CAPARVO HALL.\, 東千石町3-4-1 キャパルボビル 8F\, 鹿
 児島市\, 鹿児島県\, 892-0842\, 日本
GEO:31.590826;130.55185
X-APPLE-STRUCTURED-LOCATION;VALUE=URI;X-ADDRESS=東千石町3-4-1 キャパ
 ルボビル 8F\, 鹿児島市\, 鹿児島県\, 892-0842\, 日本;X-APPLE-
 RADIUS=100;X-TITLE=CAPARVO HALL.:geo:31.590826,130.55185
END:VEVENT
BEGIN:VTIMEZONE
TZID:Asia/Tokyo
X-LIC-LOCATION:Asia/Tokyo
BEGIN:STANDARD
DTSTART:20230804T153000
TZOFFSETFROM:+0900
TZOFFSETTO:+0900
TZNAME:JST
END:STANDARD
END:VTIMEZONE
END:VCALENDAR