BEGIN:VCALENDAR
VERSION:2.0
PRODID:-//wp-events-plugin.com//7.2.3.1//EN
TZID:Asia/Tokyo
X-WR-TIMEZONE:Asia/Tokyo
BEGIN:VEVENT
UID:1252@music-live.jp
DTSTART;TZID=Asia/Tokyo:20240707T190000
DTEND;TZID=Asia/Tokyo:20240707T210000
DTSTAMP:20241227T170932Z
URL:https://www.music-live.jp/events/eventid-14750/
SUMMARY:サンバとボサノバの夕べ＠明日の地図
DESCRIPTION:サンバとボサノバの夕べ＠明日の地図\nブラジ
 ル音楽の国内トップリーダー、ゲーリー杉田(Vo/Perc)の
 魅力あふれる夏の一夜。サンバとボサノバの名曲をた
 っぷりと。\n\n■出演者\n・ゲーリー杉田(Vo/Perc)\n・中沼
 浩(Gt)\n・森田孝一郎(Ds)\n\n■日時\n2024年7月7日　OPEN 18:30
  / START 19:00\n\n■会場\nmusic&cafe 明日の地図\n\n■料金\n当
 日 4\,000円 / 前売 3\,500円　※1ドリンク付\n\n
ATTACH;FMTTYPE=image/jpeg:https://www.music-live.jp/wp-content/uploads/202
 4/12/441044859_7440448186003637_6599785314055644102_n.jpg
CATEGORIES:Bossa Nova,Jazz,Latin,その他
LOCATION:music&cafe 明日の地図\, 千日町9-17 江口ビル2階\, 鹿
 児島市\, 鹿児島県\, 892-0843\, 日本
GEO:31.588609;130.556373
X-APPLE-STRUCTURED-LOCATION;VALUE=URI;X-ADDRESS=千日町9-17 江口ビル2
 階\, 鹿児島市\, 鹿児島県\, 892-0843\, 日本;X-APPLE-RADIUS=100;X
 -TITLE=music&cafe 明日の地図:geo:31.588609,130.556373
END:VEVENT
BEGIN:VTIMEZONE
TZID:Asia/Tokyo
X-LIC-LOCATION:Asia/Tokyo
BEGIN:STANDARD
DTSTART:20230708T190000
TZOFFSETFROM:+0900
TZOFFSETTO:+0900
TZNAME:JST
END:STANDARD
END:VTIMEZONE
END:VCALENDAR