BEGIN:VCALENDAR
VERSION:2.0
PRODID:-//wp-events-plugin.com//7.2.3.1//EN
TZID:Asia/Tokyo
X-WR-TIMEZONE:Asia/Tokyo
BEGIN:VEVENT
UID:1262@music-live.jp
DTSTART;TZID=Asia/Tokyo:20240714T180000
DTEND;TZID=Asia/Tokyo:20240714T210000
DTSTAMP:20241227T170932Z
URL:https://www.music-live.jp/events/eventid-14760/
SUMMARY:クリヤ・マコト(Pf)/安井源之新(Perc) RHYTHMATRIX
DESCRIPTION:クリヤ・マコト(Pf)/安井源之新(Perc) RHYTHMATRIX\n
 アルバム「BRIGHTNESS」リリース記念ツアー\n\n■出演者\n
 ・クリヤ・マコト(Pf)\n・安井源之新(Perc)\n・納浩一(Ba)\n
 ・則竹裕之(Ds)\n・KOTETSU(Vo)\n・上田裕香(Vo)\n\n■日時\n202
 4年7月14日　OPEN 17:30 / START 18:00\n\n■会場\nCAPARVO HALL.\n\n
 ■料金\n5\,000円\n※要1ドリンクオーダー\n※全席自由\n\n
ATTACH;FMTTYPE=image/jpeg:https://www.music-live.jp/wp-content/uploads/202
 4/12/image0714.jpg
CATEGORIES:Jazz,その他
LOCATION:CAPARVO HALL.\, 東千石町3-4-1 キャパルボビル 8F\, 鹿
 児島市\, 鹿児島県\, 892-0842\, 日本
GEO:31.590826;130.55185
X-APPLE-STRUCTURED-LOCATION;VALUE=URI;X-ADDRESS=東千石町3-4-1 キャパ
 ルボビル 8F\, 鹿児島市\, 鹿児島県\, 892-0842\, 日本;X-APPLE-
 RADIUS=100;X-TITLE=CAPARVO HALL.:geo:31.590826,130.55185
END:VEVENT
BEGIN:VTIMEZONE
TZID:Asia/Tokyo
X-LIC-LOCATION:Asia/Tokyo
BEGIN:STANDARD
DTSTART:20230715T180000
TZOFFSETFROM:+0900
TZOFFSETTO:+0900
TZNAME:JST
END:STANDARD
END:VTIMEZONE
END:VCALENDAR