BEGIN:VCALENDAR
VERSION:2.0
PRODID:-//wp-events-plugin.com//7.2.3.1//EN
TZID:Asia/Tokyo
X-WR-TIMEZONE:Asia/Tokyo
BEGIN:VEVENT
UID:1249@music-live.jp
DTSTART;TZID=Asia/Tokyo:20240706T193000
DTEND;TZID=Asia/Tokyo:20240706T220000
DTSTAMP:20241227T170932Z
URL:https://www.music-live.jp/events/eventid-14852/
SUMMARY:PLS -1.0
DESCRIPTION:PLS -1.0\nPlay Like Singin' 歌うように、そしてリズ
 ミカルに\n\n■出演者\n・有川尚伸(Sax)\n・櫛間崇史(Pf)\n
 ・松屋裕介(Ba)\n\n■日時\n2024年7月6日　OPEN 19:00 / START 19:
 30\n\n■会場\nmusic&cafe 明日の地図\n\n■料金\n3\,300円(1ド
 リンク付)\n\n
ATTACH;FMTTYPE=image/jpeg:https://www.music-live.jp/wp-content/uploads/202
 4/12/444952295_7644987885582071_5229975685045676413_n.jpg
CATEGORIES:Jazz,その他
LOCATION:music&cafe 明日の地図\, 千日町9-17 江口ビル2階\, 鹿
 児島市\, 鹿児島県\, 892-0843\, 日本
GEO:31.588609;130.556373
X-APPLE-STRUCTURED-LOCATION;VALUE=URI;X-ADDRESS=千日町9-17 江口ビル2
 階\, 鹿児島市\, 鹿児島県\, 892-0843\, 日本;X-APPLE-RADIUS=100;X
 -TITLE=music&cafe 明日の地図:geo:31.588609,130.556373
END:VEVENT
BEGIN:VTIMEZONE
TZID:Asia/Tokyo
X-LIC-LOCATION:Asia/Tokyo
BEGIN:STANDARD
DTSTART:20230707T193000
TZOFFSETFROM:+0900
TZOFFSETTO:+0900
TZNAME:JST
END:STANDARD
END:VTIMEZONE
END:VCALENDAR