BEGIN:VCALENDAR
VERSION:2.0
PRODID:-//wp-events-plugin.com//7.2.3.1//EN
TZID:Asia/Tokyo
X-WR-TIMEZONE:Asia/Tokyo
BEGIN:VEVENT
UID:1220@music-live.jp
DTSTART;TZID=Asia/Tokyo:20240621T190000
DTEND;TZID=Asia/Tokyo:20240621T213000
DTSTAMP:20241227T170931Z
URL:https://www.music-live.jp/events/eventid-14924/
SUMMARY:博多俊輔(Pf)×吉村”Yuly”有里(Vo)×吉澤レイモンド
 武尊(Sax) Friday Night Live
DESCRIPTION:博多俊輔(Pf)×吉村”Yuly”有里(Vo)×吉澤レイモ
 ンド武尊(Sax) Friday Night Live\n\n■出演者\n・博多俊輔(Pf)\n
 ・吉村”Yuly”有里(Vo)\n・吉澤レイモンド武尊(Sax)\n\n■
 日時\n2024年6月21日　❶19:00~ ❷20:00~ ❸21:00~\n\n■会場\nJaz
 z Spot Lileth（ジャズスポット・リレット）\n\n■料金\n【
 一般】ミュージックチャージ 3\,300円 + ご飲食代\n【U25
 （25歳以下）】ミュージックチャージ 2\,500円 +ご飲食代
 （25%OFF）\n\n
ATTACH;FMTTYPE=image/jpeg:https://www.music-live.jp/wp-content/uploads/202
 4/06/240621_shunsuke-hakata_ad_ogp-1.webp
CATEGORIES:Jazz
LOCATION:Jazz Spot Lileth（ジャズスポット・リレット）\, 千
 日町9-4 天文館Kビル 4F\, 鹿児島市\, 鹿児島県\, 892-0843\, 
 日本
GEO:31.588582;130.555485
X-APPLE-STRUCTURED-LOCATION;VALUE=URI;X-ADDRESS=千日町9-4 天文館Kビ
 ル 4F\, 鹿児島市\, 鹿児島県\, 892-0843\, 日本;X-APPLE-RADIUS=10
 0;X-TITLE=Jazz Spot Lileth（ジャズスポット・リレット）:geo:3
 1.588582,130.555485
END:VEVENT
BEGIN:VTIMEZONE
TZID:Asia/Tokyo
X-LIC-LOCATION:Asia/Tokyo
BEGIN:STANDARD
DTSTART:20230622T190000
TZOFFSETFROM:+0900
TZOFFSETTO:+0900
TZNAME:JST
END:STANDARD
END:VTIMEZONE
END:VCALENDAR