BEGIN:VCALENDAR
VERSION:2.0
PRODID:-//wp-events-plugin.com//7.2.3.1//EN
TZID:Asia/Tokyo
X-WR-TIMEZONE:Asia/Tokyo
BEGIN:VEVENT
UID:1236@music-live.jp
DTSTART;TZID=Asia/Tokyo:20240630T130000
DTEND;TZID=Asia/Tokyo:20240630T150000
DTSTAMP:20241227T170931Z
URL:https://www.music-live.jp/events/eventid-14989/
SUMMARY:Chakula Afternoon Tea Touonkan LIVE
DESCRIPTION:Chakula Afternoon Tea Touonkan LIVE\n\n■出演者\n・Chakula
 \n　SHOKO(Pf/Vo)\n　HAMADA HIROSUKE(Ds)\n　TANAKA KIYOSHI(Ba)\n　TAKUM
 I(Gt)\n　YUKI(Vo)\nOPENING ACT\n・窪山富士男(Vo)\n・Rey(Vo)\n\n\n
 ■日時\n2024年6月30日　START 13:00\n\n■会場\n稲音館(とう
 おんかん)\n\n■料金\n2\,000円(1ドリンク付)\n\n
ATTACH;FMTTYPE=image/jpeg:https://www.music-live.jp/wp-content/uploads/202
 4/12/436306616_3747567212128331_5221904985076832084_n.jpg
CATEGORIES:Rock・Pops
LOCATION:稲音館(とうおんかん)\, 下田町1879\, 鹿児島市\, 鹿
 児島県\, 892-0873\, 日本
GEO:31.646215;130.548944
X-APPLE-STRUCTURED-LOCATION;VALUE=URI;X-ADDRESS=下田町1879\, 鹿児島
 市\, 鹿児島県\, 892-0873\, 日本;X-APPLE-RADIUS=100;X-TITLE=稲音
 館(とうおんかん):geo:31.646215,130.548944
END:VEVENT
BEGIN:VTIMEZONE
TZID:Asia/Tokyo
X-LIC-LOCATION:Asia/Tokyo
BEGIN:STANDARD
DTSTART:20230701T130000
TZOFFSETFROM:+0900
TZOFFSETTO:+0900
TZNAME:JST
END:STANDARD
END:VTIMEZONE
END:VCALENDAR