BEGIN:VCALENDAR
VERSION:2.0
PRODID:-//wp-events-plugin.com//7.2.3.1//EN
TZID:Asia/Tokyo
X-WR-TIMEZONE:Asia/Tokyo
BEGIN:VEVENT
UID:1239@music-live.jp
DTSTART;TZID=Asia/Tokyo:20240701T140000
DTEND;TZID=Asia/Tokyo:20240701T160000
DTSTAMP:20241227T170931Z
URL:https://www.music-live.jp/events/eventid-15066/
SUMMARY:WINA(Vo) JAZZ LIVE@鹿児島 cafe J
DESCRIPTION:WINA(Vo) JAZZ LIVE@鹿児島 cafe J\n\n■出演者\n・WINA(Vo
 )\n・田島良一(Pf)\n・大久保重樹(Ds)\n・丹羽肇(Ba)\n\n■日
 時\n2024年7月1日　OPEN 13:30 / START 14:00\n\n■会場\ncafe J\n\n
 ■料金\n2\,900円\n\n
ATTACH;FMTTYPE=image/jpeg:https://www.music-live.jp/wp-content/uploads/202
 4/12/448982429_3834885740164272_1643236495060119009_n.jpg
CATEGORIES:Jazz
LOCATION:Cafe J\, 伊集院町徳重402-2\, 日置市\, 鹿児島県\, 899-
 2502\, 日本
GEO:31.629164;130.395838
X-APPLE-STRUCTURED-LOCATION;VALUE=URI;X-ADDRESS=伊集院町徳重402-2\, 
 日置市\, 鹿児島県\, 899-2502\, 日本;X-APPLE-RADIUS=100;X-TITLE=Ca
 fe J:geo:31.629164,130.395838
END:VEVENT
BEGIN:VTIMEZONE
TZID:Asia/Tokyo
X-LIC-LOCATION:Asia/Tokyo
BEGIN:STANDARD
DTSTART:20230702T140000
TZOFFSETFROM:+0900
TZOFFSETTO:+0900
TZNAME:JST
END:STANDARD
END:VTIMEZONE
END:VCALENDAR