BEGIN:VCALENDAR
VERSION:2.0
PRODID:-//wp-events-plugin.com//7.2.3.1//EN
TZID:Asia/Tokyo
X-WR-TIMEZONE:Asia/Tokyo
BEGIN:VEVENT
UID:1276@music-live.jp
DTSTART;TZID=Asia/Tokyo:20240721T150000
DTEND;TZID=Asia/Tokyo:20240721T170000
DTSTAMP:20241227T170932Z
URL:https://www.music-live.jp/events/eventid-15085/
SUMMARY:Summer Concert in 鹿児島@bajeena
DESCRIPTION:Summer Concert in 鹿児島@bajeena\n三味線・岩田桃楠 &
  ギター・志野文音\n～三味線× ギター × ピアノの音の
 マリアージュ〜\n夏の午後にお届けする爽やかで情熱的
 な音色をお楽しみ下さい\n\n\n■出演者\n・岩田桃楠 Momok
 usu Iwata (三味線)\n1993年大阪府箕面市出身。東京藝術大
 学音楽学部邦楽科卒業。一般社団法人三味線表現協会
 代表理事。両親がジャズミュージシャンという環境で
 育つ。9歳で津軽三味線の即興性に感電し稽古を開始。
 大学進学にて上京後、都内を中心に演奏活動を行い、
 ヨーロッパ、アジア、中東、北米など、国外でも演奏
 を経験。2019年ソロアルバム「Shamisen Tokyo」をリリース
 。日米協会主催によるソロコンサートをアメリカミネ
 ソタ州にて開催。クロスオーバーな環境で培った発想
 を武器に、現代の三味線音楽を模索する。\n・志野文音
  Ayane Shino (ギター)\n東京藝術大学大学院博士後期課程修
 了。博士号取得。大学在学中、学内成績優秀者に贈ら
 れる安宅賞等を受賞。卒業時にアカンサス音楽賞を受
 賞し、音楽環境創造科を首席で卒業。ギター、ピアノ
 ともに数々のコンクールでの入賞、国内外の交響楽団
 との共演を重ねる。近年では、日本国内や海外のアニ
 メーションTVCMの楽曲演奏、LAのラジオ番組のパーソナ
 リティ、NYでの海外公演等、ジャンルを超えた幅広い活
 動をおこなっている。現在、国立音楽大学非常勤講師
 、日本ジュニア・ギター教育協会副会長、日本スペイ
 ンギター協会理事\n・Guest ピアノ 加東伸\n\n\n■日時\n202
 4年7月21日　OPEN 14:30 / START 15:00\n\n■会場\nbajeena(バジー
 ナ)\n\n■料金\n3\,500円(要1ドリンクオーダー 500円)\n\n
ATTACH;FMTTYPE=image/jpeg:https://www.music-live.jp/wp-content/uploads/202
 4/12/449401673_970165561785738_8093637482055704675_n.jpg
CATEGORIES:Instrumental,Rock・Pops,その他
LOCATION:bajeena(バジーナ)\, 唐湊1丁目17-6\, 鹿児島市\, 鹿児
 島県\, 890-0081\, 日本
GEO:31.572623;130.536701
X-APPLE-STRUCTURED-LOCATION;VALUE=URI;X-ADDRESS=唐湊1丁目17-6\, 鹿児
 島市\, 鹿児島県\, 890-0081\, 日本;X-APPLE-RADIUS=100;X-TITLE=bajee
 na(バジーナ):geo:31.572623,130.536701
END:VEVENT
BEGIN:VTIMEZONE
TZID:Asia/Tokyo
X-LIC-LOCATION:Asia/Tokyo
BEGIN:STANDARD
DTSTART:20230722T150000
TZOFFSETFROM:+0900
TZOFFSETTO:+0900
TZNAME:JST
END:STANDARD
END:VTIMEZONE
END:VCALENDAR