BEGIN:VCALENDAR
VERSION:2.0
PRODID:-//wp-events-plugin.com//7.2.3.1//EN
TZID:Asia/Tokyo
X-WR-TIMEZONE:Asia/Tokyo
BEGIN:VEVENT
UID:1315@music-live.jp
DTSTART;TZID=Asia/Tokyo:20240915T160000
DTEND;TZID=Asia/Tokyo:20240915T190000
DTSTAMP:20241227T170933Z
URL:https://www.music-live.jp/events/eventid-15225/
SUMMARY:SAXO本舗 Live & Session@順刻堂
DESCRIPTION:SAXO本舗 Live & Session@順刻堂\n・1stステージ SAXO本
 舗\n・2ndステージ　SAXO本舗ホストのジャムセッション\n
 \n■出演者\nSAXO本舗\nSAXO本舗:平成31年福岡市にて結成し
 た、アカペラサックスユニット。\nSAXOPHOBIAをはじめと
 する市販の楽譜に加え、メンバーによるオリジナルア
 レンジ譜にも挑戦して、レパートリーの拡大と他バン
 ドとの差別化を図りながら活動中。\n・野田正樹(As)\n・
 松本有司(Ts)\n・堀田剛(Bs)\n・浅田正子(As/Ts)\n\n※セッシ
 ョンホストメンバー\n・もりわきみき(Pf)\n・白土師直弘
 (Ba)\n・守田豊彦(Ds)\n\n\n■日時\n2024年9月15日　START 16:00\n
 \n■会場\nジャズ喫茶 順刻堂\n\n■料金\n1\,000円(ドリン
 ク別)\n\n
ATTACH;FMTTYPE=image/jpeg:https://www.music-live.jp/wp-content/uploads/202
 4/12/451834625_7857707477639099_7034155176950258813_n.jpg
CATEGORIES:Jazz,その他
LOCATION:ジャズ喫茶 順刻堂\, 春山町1913-6\, 鹿児島市\, 鹿
 児島県\, 899-2704\, 日本
GEO:31.581629;130.455234
X-APPLE-STRUCTURED-LOCATION;VALUE=URI;X-ADDRESS=春山町1913-6\, 鹿児島
 市\, 鹿児島県\, 899-2704\, 日本;X-APPLE-RADIUS=100;X-TITLE=ジャ
 ズ喫茶 順刻堂:geo:31.581629,130.455234
END:VEVENT
BEGIN:VTIMEZONE
TZID:Asia/Tokyo
X-LIC-LOCATION:Asia/Tokyo
BEGIN:STANDARD
DTSTART:20230916T160000
TZOFFSETFROM:+0900
TZOFFSETTO:+0900
TZNAME:JST
END:STANDARD
END:VTIMEZONE
END:VCALENDAR